BEGIN:VCALENDAR
VERSION:2.0
PRODID:-//eventon.com NONSGML v1.0//EN
CALSCALE:GREGORIAN
METHOD:PUBLISH
BEGIN:VEVENT
UID:69e5e1f414242
DTSTAMP:20260420T082108Z
DTSTART:20250212T180000Z
DTEND:20250212T200000Z
LOCATION:
SUMMARY:Jahreskreisfest "IMBOLC"
DESCRIPTION:Weitere Informationen folgen &#8230;\nhttps://bewegtundbewegend
 .de/events/jahreskreisfest-imbolc/
URL:https://bewegtundbewegend.de/events/jahreskreisfest-imbolc/
END:VEVENT
END:VCALENDAR