BEGIN:VCALENDAR
VERSION:2.0
PRODID:-//eventon.com NONSGML v1.0//EN
CALSCALE:GREGORIAN
METHOD:PUBLISH
BEGIN:VEVENT
UID:69e5de496a20f
DTSTAMP:20260420T080529Z
DTSTART:20240924T170000Z
DTEND:20240924T183000Z
LOCATION:BEWEGT &amp; BEWEGEND! Willbecker Straße 20\,  40699 Erkrath
SUMMARY:Ho´oponopono Abend\,  Erkrath-Hochdahl
DESCRIPTION:&#8230; für alle\,  die Ho´oponopono praktizieren oder kennen
 lernen wollen. Ho´oponopono ist ein hawaianisches Vergebungsritual\,  bei 
 dem es darum geht\,  Verantwortung für sein Leben zu übernehmen\,  indem 
 man Altes los lässt\,  um Raum für Neues zu schaffen. Dies geschieht mit 
 offenem Herzen für sich selbst\,  seine Mitmenschen und seine Umwelt.\nhtt
 ps://bewegtundbewegend.de/events/hooponopono-abend-2/
URL:https://bewegtundbewegend.de/events/hooponopono-abend-2/
END:VEVENT
END:VCALENDAR