BEGIN:VCALENDAR
VERSION:2.0
PRODID:-//eventon.com NONSGML v1.0//EN
CALSCALE:GREGORIAN
METHOD:PUBLISH
BEGIN:VEVENT
UID:69e5dea89b487
DTSTAMP:20260420T080704Z
DTSTART:20240803T090000Z
DTEND:20240803T120000Z
LOCATION:BEWEGT &amp; BEWEGEND! Willbecker Straße 20\,  40699 Erkrath
SUMMARY:Workshop „Sich selbst wieder näher kommen“ mit Yin-Yoga\,  Erkrath-Hochdahl
DESCRIPTION:Möchtest du dir selbst wieder näherkommen? Yin-Yoga&nbsp;hilf
 t dir dabei\,  denn es zielt darauf ab\,  dich aufzuwecken\,  dir selbst zu
  begegnen\,  indem du lernst\,  deine Selbstfindungskräfte zu verstärken.
  Auch hilft es dabei\,  eine freundlichere und ehrlichere Beziehung zwische
 n deinem Körper und deinem Geist herzustellen.\nhttps://bewegtundbewegend.
 de/events/sich-selbst-wieder-naeher-kommen-mit-yin-yoga/
URL:https://bewegtundbewegend.de/events/sich-selbst-wieder-naeher-kommen-mit-yin-yoga/
END:VEVENT
END:VCALENDAR